BEGIN:VCALENDAR
VERSION:2.0
PRODID:icalendar-ruby
CALSCALE:GREGORIAN
METHOD:PUBLISH
BEGIN:VEVENT
DTSTAMP:20260424T094842Z
UID:9-1479279@fcaphila.org
DTSTART:20260920T150000Z
DTEND:20260920T160000Z
CLASS:PUBLIC
CREATED:20260423T213051
DESCRIPTION:Worship Service
LAST-MODIFIED:20260423T213051
LOCATION:FCA
SUMMARY:Worship Service
URL;VALUE=URI:https://www.fcaphila.org/events/worship-service--9/2026-09-20
ATTACH;FILENAME=sunday pew.png;FMTTYPE=image/png:https://dq5pwpg1q8ru0.clou
 dfront.net/2022/10/03/12/47/06/ea5e3164-6b29-4f8c-8c91-25747a17032c/sunday
 %20pew.png
END:VEVENT
END:VCALENDAR
