BEGIN:VCALENDAR
VERSION:2.0
PRODID:icalendar-ruby
CALSCALE:GREGORIAN
METHOD:PUBLISH
BEGIN:VEVENT
DTSTAMP:20260421T000950Z
UID:12-1460627@fcaphila.org
DTSTART:20260929T230000Z
DTEND:20260930T000000Z
CLASS:PUBLIC
CREATED:20260420T194601
DESCRIPTION:
LAST-MODIFIED:20260420T194601
LOCATION:
SUMMARY:Tuesday Evening Fellowship
URL;VALUE=URI:https://www.fcaphila.org/events/tuesday-evening-fellowship/20
 26-09-29
ATTACH;FILENAME=Tuesday Fellowship.png;FMTTYPE=image/png:https://dq5pwpg1q8
 ru0.cloudfront.net/2024/09/17/18/03/21/e2481c29-5c7e-4f74-8f17-c2433f56fdc
 f/Tuesday%20Fellowship.png
END:VEVENT
END:VCALENDAR
