BEGIN:VCALENDAR
VERSION:2.0
PRODID:icalendar-ruby
CALSCALE:GREGORIAN
METHOD:PUBLISH
BEGIN:VEVENT
DTSTAMP:20260425T120218Z
UID:13-1487350@fcaphila.org
DTSTART:20260903T230000Z
DTEND:20260904T000000Z
CLASS:PUBLIC
CREATED:20260425T065359
DESCRIPTION:
LAST-MODIFIED:20260425T065359
LOCATION:
SUMMARY:Thursday Night Bible Study
URL;VALUE=URI:https://www.fcaphila.org/events/thursday-night-bible-study/20
 26-09-03
ATTACH;FILENAME=thursday bible study.png;FMTTYPE=image/png:https://dq5pwpg1
 q8ru0.cloudfront.net/2024/09/17/18/05/09/07137e95-1202-4725-adee-ee57c9e9a
 9f0/thursday%20bible%20study.png
END:VEVENT
END:VCALENDAR
