BEGIN:VCALENDAR
VERSION:2.0
PRODID:icalendar-ruby
CALSCALE:GREGORIAN
METHOD:PUBLISH
BEGIN:VEVENT
DTSTAMP:20260425T224150Z
UID:11-1491181@fcaphila.org
DTSTART:20261002T230000Z
DTEND:20261003T000000Z
CLASS:PUBLIC
CREATED:20260425T173819
DESCRIPTION:
LAST-MODIFIED:20260425T173819
LOCATION:
SUMMARY:Free Indeed
URL;VALUE=URI:https://www.fcaphila.org/events/free-indeed/2026-10-02
ATTACH;FILENAME=free indeed.jpg;FMTTYPE=image/jpeg:https://dq5pwpg1q8ru0.cl
 oudfront.net/2022/10/03/12/00/46/ad246fbc-da95-4854-9c59-4ea6d71131bc/free
 %20indeed.jpg
END:VEVENT
END:VCALENDAR
