BEGIN:VCALENDAR
VERSION:2.0
PRODID:icalendar-ruby
CALSCALE:GREGORIAN
METHOD:PUBLISH
BEGIN:VEVENT
DTSTAMP:20260425T192655Z
UID:11-1490116@fcaphila.org
DTSTART:20260918T230000Z
DTEND:20260919T000000Z
CLASS:PUBLIC
CREATED:20260425T145612
DESCRIPTION:
LAST-MODIFIED:20260425T145612
LOCATION:
SUMMARY:Free Indeed
URL;VALUE=URI:https://www.fcaphila.org/events/free-indeed/2026-09-18
ATTACH;FILENAME=free indeed.jpg;FMTTYPE=image/jpeg:https://dq5pwpg1q8ru0.cl
 oudfront.net/2022/10/03/12/00/46/ad246fbc-da95-4854-9c59-4ea6d71131bc/free
 %20indeed.jpg
END:VEVENT
END:VCALENDAR
